BEGIN:VCALENDAR
VERSION:2.0
PRODID:icalendar-ruby
CALSCALE:GREGORIAN
METHOD:PUBLISH
BEGIN:VEVENT
DTSTAMP:20260422T181747Z
UID:event_2148759596
DTSTART:20260423T233000Z
DTEND:20260424T010000Z
CLASS:PUBLIC
DESCRIPTION:Thursday's Lean Body Masterclass 
ORGANIZER;CN=:mailto:
SEQUENCE:1776881867
STATUS:CONFIRMED
SUMMARY:Thursday's Lean Body Masterclass 
RRULE:FREQ=WEEKLY
END:VEVENT
END:VCALENDAR
